Workbook

Sheet раздел 1
A1: ОТЧЕТ ОБ ОКАЗАНИИ БЕСПЛАТНОЙ ЮРИДИЧЕСКОЙ ПОМОЩИ исполнительным органом государственной власти Свердловской области и подведомственным ему учреждением за 3 месяца 2025 года в ГКУ "СРЦН города Алапаевска"
A2: Раздел 1. Сведения о количестве граждан, которым оказана бесплатная юридическая помощь, и видах оказанной гражданам бесплатной юридической помощи.
A3: № строки | B3: Содержание показателя | C3: Значение показателя
A4: 1 | B4: 2 | C4: 3
A5: 1 | B5: общие показатели
A6: 2 | B6: Общее количество граждан, обратившихся за получением бесплатной юридической помощи | C6: 14 | D6: =C7+C9 -> 14 | H6: сумма равна сумме строк 3 и 5
A7: 3 | B7: Количество граждан, которым оказана бесплатная юридическая помощь | C7: 14 | D7: =C12+C14+C16+C18 -> 10 | H7: сумма равна сумме строк 8, 10, 12,14
A8: 4 | B8: Количество случаев оказания гражданам бесплатной юридической помощи | C8: 14 | D8: =C13+C15+C17+C19 -> 10 | H8: сумма равна сумме строк 9, 11, 13, 15
A9: 5 | B9: Количество граждан, обратившихся за получением бесплатной юридической помощи, которым отказано в оказании бесплатной юридической помощи | C9: 0
A10: 6 | B10: Количество случаев отказа в оказании гражданам бесплатной юридической помощи | D10: =C9 -> 0 | H10: показатели больше или равны строке 5
A11: 7 | B11: Виды бесплатной юридической помощи
A12: 8 | B12: Количество граждан, которым даны устные консультации по правовым вопросам | C12: 6
A13: 9 | B13: Количество устных консультаций по правовым вопросам | C13: 6 | D13: =C12 -> 6 | H13: показатели больше или равны строке 8
A14: 10 | B14: Количество граждан, которым даны письменные консультации по правовым вопросам | C14: 2
A15: 11 | B15: Количество письменных консультаций по правовым вопросам | C15: 2 | D15: =C14 -> 2 | H15: показатели больше или равны строке 10
A16: 12 | B16: Количество граждан, которым составлены заявления, жалобы, ходатайства и другие документы правового характера | C16: 2
A17: 13 | B17: Количество составленных заявлений, жалоб, ходатайств и других документов правового характера | C17: 2 | D17: =C16 -> 2 | H17: показатели больше или равны строке 12
A18: 14 | B18: Количество граждан, интересы которых представлялись в государственных и муниципальных органах, организациях
A19: 15 | B19: Количество случаев представления интересов граждан в государственных и муниципальных органах, организациях | D19: =C18 -> 0 | H19: показатели больше или равны строке 14

Sheet раздел 2
A1: Раздел 2. Сведения о количестве граждан, имеющих право на получение бесплатной юридической помощи
A3: № строки | B3: Содержание показателя | C3: Значение показателя
A4: 1 | B4: 2 | C4: 3
A5: 1. | B5: Общее количество граждан, обратившихся за получением бесплатной юридической помощи и имеющих право на ее получение | C5: 14 | E5: =C7+C8+C9 -> 10 | G5: сумма строк 3, 4 и 5 | H5: =EXACT(C5,'раздел 1'!C6) -> TRUE | I5: равно строке 3 раздела 1
A6: 2 | B6: Виды бесплатной юридической помощи
A7: 3 | B7: Общее количество граждан, обратившихся за получением юридической помощи в виде правового консультирования (в устной и письменной форме) и имеющих право на ее получение | C7: 8 | H7: =EXACT(C7,'раздел 1'!C12+'раздел 1'!C14) -> TRUE | I7: равно сумме строк 8 и 10 раздела 1
A8: 4 | B8: Общее количество граждан, обратившихся за получением юридической помощи в виде составления заявлений, жалоб, ходатайств и других документов правового характера и имеющих право на ее получение | C8: 2 | H8: =EXACT(C8,'раздел 1'!C16) -> TRUE | I8: равно строке 12 раздела 1
A9: 5 | B9: Общее количество граждан, обратившихся за получением юридической помощи в виде представления их интересов в государственных и муниципальных органах, организациях и имеющих право на ее получение | H9: =EXACT(C9,'раздел 1'!C18) -> TRUE | I9: равно строке 14 раздела 1

Sheet раздел 3
A1: Раздел 3. Сведения о гражданах, которым оказана бесплатная юридическая помощь
A2: № п/п | B2: Категория граждан | C2: Количество устных консультаций по правовым вопросам | D2: Количество письменных консультаций по правовым вопросам | E2: Количество заявлений, жалоб, ходатайств и других документов правового характера | F2: Количество случаев представления интересов граждан в государствен-ных и муниципаль-ных органах, организациях | G2: Всего
A3: 1 | B3: 2 | C3: 3 | D3: 4 | E3: 5 | F3: 6 | G3: 7
A4: 1 | B4: Граждане, среднедушевой доход семей которых ниже величины прожиточного минимума, установленного в Свердловской области в соответствии с законодательством Российской Федерации, либо одиноко проживающие граждане, доходы которых ниже величины прожиточного минимума (малоимущие граждане) | G4: =SUM(C4:F4) -> 0
A5: 2 | B5: Инвалиды I и II группы | G5: =SUM(C5:F5) -> 0
A6: 3 | B6: Ветераны Великой Отечественной войны, Герои Российской Федерации, Герои Советского Союза, Герои Социалистического Труда, Герои Труда Российской Федерации | G6: =SUM(C6:F6) -> 0
A7: 4 | B7: Граждане, проходящие (проходившие) военную службу в Вооруженных Силах Российской Федерации, граждане, находящиеся (находившиеся) на военной службе (службе) в войсках национальной гвардии Российской Федерации, в воинских формированиях и органах, указанных в пункте 6 статьи 1 Федерального закона от 31 мая 1996 года № 61-ФЗ «Об обороне», при условии их участия в специальной военной операции на территориях Украины, Донецкой Народной Республики, Луганской Народной Республики, Запорожской области и Херсонской области и (или) выполнения ими задач по отражению вооруженного вторжения на территорию Российской Федерации, в ходе вооруженной провокации на Государственной границе Российской Федерации и приграничных территориях субъектов Российской Федерации, прилегающих к районам проведения специальной военной операции на территориях Украины, Донецкой Народной Республики, Луганской Народной Республики, Запорожской области и Херсонской области, находящиеся (находившиеся) на указанных территориях служащие (работники) правоохранительных органов Российской Федерации, граждане, выполняющие (выполнявшие) служебные и иные аналогичные функции на указанных территориях, а также члены семей указанных граждан | G7: =SUM(C7:F7) -> 0
A8: 5 | B8: Граждане, призванные на военную службу по мобилизации в Вооруженные Силы Российской Федерации, граждане, заключившие контракт о добровольном содействии в выполнении задач, возложенных на Вооруженные Силы Российской Федерации, или войска национальной гвардии Российской Федерации, при условии их участия в специальной военной операции на территориях Украины, Донецкой Народной Республики, Луганской Народной Республики, Запорожской области и Херсонской области и (или) выполнения ими задач по отражению вооруженного вторжения на территорию Российской Федерации, в ходе вооруженной провокации на Государственной границе Российской Федерации и приграничных территориях субъектов Российской Федерации, прилегающих к районам проведения специальной военной операции на территориях Украины, Донецкой Народной Республики, Луганской Народной Республики, Запорожской области и Херсонской области, граждане, заключившие контракт (имевшие иные правоотношения) с организацией, содействующей выполнению задач, возложенных на Вооруженные Силы Российской Федерации, при условии их участия в специальной военной операции на указанных территориях, а также члены семей указанных граждан
A9: 6 | B9: Лица, принимавшие в соответствии с решениями органов государственной власти Донецкой Народной Республики, Луганской Народной Республики участие в боевых действиях в составе Вооруженных Сил Донецкой Народной Республики, Народной милиции Луганской Народной Республики, воинских формирований и органов Донецкой Народной Республики и Луганской Народной Республики начиная с 11 мая 2014 года, а также члены семей указанных лиц
A10: 7 | B10: Дети-инвалиды, дети-сироты, дети, оставшиеся без попечения родителей, лица из числа детей-сирот и детей, оставшихся без попечения родителей, а также их законные представители и представители, если они обращаются за оказанием бесплатной юридической помощи по вопросам, связанным с обеспечением и защитой прав и законных интересов таких детей | G10: =SUM(C10:F10) -> 0
A11: 8 | B11: Лица, желающие принять на воспитание в свою семью ребенка, оставшегося без попечения родителей, если они обращаются за оказанием бесплатной юридической помощи по вопросам, связанным с устройством ребенка на воспитание в семью | G11: =SUM(C11:F11) -> 0
A12: 9 | B12: Усыновители, если они обращаются за оказанием бесплатной юридической помощи по вопросам, связанным с обеспечением и защитой прав и законных интересов усыновленных детей | G12: =SUM(C12:F12) -> 0
A13: 10 | B13: Граждане, имеющие право на бесплатную юридическую помощь в соответствии с Федеральным законом о социальном обслуживании граждан пожилого возраста и инвалидов | G13: =SUM(C13:F13) -> 0
A14: 11 | B14: Несовершеннолетние, содержащиеся в учреждениях системы профилактики безнадзорности и правонарушений несовершеннолетних, и несовершеннолетние, отбывающие наказание в местах лишения свободы, а также их законные представители и представители, если они обращаются за оказанием бесплатной юридической помощи по вопросам, связанным с обеспечением и защитой прав и законных интересов таких несовершеннолетних (за исключением вопросов, связанных с оказанием юридической помощи в уголовном судопроизводстве) | G14: =SUM(C14:F14) -> 0
A15: 12 | B15: Граждане, имеющие право на бесплатную юридическую помощь в соответствии с Законом Российской Федерации о психиатрической помощи и гарантиях прав граждан при ее оказании | G15: =SUM(C15:F15) -> 0
A16: 13 | B16: Граждане, признанные судом недееспособными, а также их законные представителии, если они обращаются за оказанием бесплатной юридической помощи по вопросам, связанным с обеспечением и защитой прав и законных интересов таких граждан | G16: =SUM(C16:F16) -> 0
A17: 14 | B17: Граждане, пострадавшие в результате чрезвычайной ситуации | G17: =SUM(C17:F17) -> 0
A18: 15 | B18: Граждане, которым право на получение бесплатной юридической помощи в рамках государственной системы бесплатной юридической помощи предоставлено в соответствии с иными федеральными законами | C18: 6 | D18: 2 | E18: 2 | F18: 0 | G18: 14
G19: 0 | I19: =EXACT(G19,C19+D19+E19+F19) -> TRUE
C22: TRUE | D22: TRUE | E22: TRUE | F22: =EXACT(F19,'раздел 1'!C19) -> TRUE | G22: TRUE
C25: равно строке 9 раздела 1 | D25: равно строке 11 раздела 1 | E25: равно строке 13 раздела 1 | F25: равно строке 15 раздела 1 | G25: равно строке 4 раздела 1

Sheet раздел 4
A1: Раздел 4. Сведения о правовом информировании и правовом просвещении населения согласно ст. 9 Закона от Свердловской области 05 октября 2012 года № 79-ОЗ
A3: Номер строки | B3: Осуществление правового информирования и правового просвещения | C3: Количество размещенных материалов по правовому информированию и правовому просвещению
A4: 1 | B4: В средствах массовой информации | C4: нет
A5: 2 | B5: В информационно-телекоммуникационной сети "Интернет" | C5: нет
A6: 3 | B6: В виде изданных брошюр, памяток и прочих | C6: нет

Sheet раздел 5
A1: Раздел 5. Сведения о количестве должностных лиц, осуществлявших в отчетный период оказание бесплатной юридической помощи
A2: № п/п | B2: Вид бесплатной юридической помощи | C2: Количество должностных лиц, осуществлявших оказание бесплатной юридической помощи
A3: 1 | B3: Правовое консультирование | C3: 1
A4: 2 | B4: Составление заявлений, жалоб, ходатайств и других документов правового характера | C4: 2
A5: 3 | B5: Представление интересов граждан в государственных и муниципальных органах, организациях | C5: 0
A6: 4 | B6: Всего должностных лиц, осуществлявших оказание бесплатной юридической помощи: | C6: 1 | F6: =C3+C4+C5 -> 3 | H6: равно либо меньше суммы строк 1, 2 и 3
A10: Дата составления отчета:
B11: Юрисконсульт Н.А.Сочивец
A12: (подпись) (расшифровка подписи)
A13: Руководитель ________________ ________________________________А.В.Попов
A14: (подпись) (расшифровка подписи)
