Workbook

Sheet раздел 1
A1: ОТЧЕТ ОБ ОКАЗАНИИ БЕСПЛАТНОЙ ЮРИДИЧЕСКОЙ ПОМОЩИ государственным автономным стационарным учреждением социального обслуживания Свердловской области "Алапаевский психоневрологический интернат" (ГАСУСО СО "Алапаевский ПНИ") за 1 квартал 2024 года
A2: Раздел 1. Сведения о количестве граждан, которым оказана бесплатная юридическая помощь, и видах оказанной гражданам бесплатной юридической помощи.
A3: № строки | B3: Содержание показателя | C3: Значение показателя
A4: 1 | B4: 2 | C4: 3
A5: 1 | B5: общие показатели
A6: 2 | B6: Общее количество граждан, обратившихся за получением бесплатной юридической помощи | C6: 5 | D6: =C7+C9 -> 5 | E6: сумма равна сумме строк 3 и 5
A7: 3 | B7: Количество граждан, которым оказана бесплатная юридическая помощь | C7: 5 | D7: =C12+C14+C16+C18 -> 5 | E7: сумма равна сумме строк 8, 10, 12,14
A8: 4 | B8: Количество случаев оказания гражданам бесплатной юридической помощи | C8: 5 | D8: =C13+C15+C17+C19 -> 5 | E8: сумма равна сумме строк 9, 11, 13, 15
A9: 5 | B9: Количество граждан, обратившихся за получением бесплатной юридической помощи, которым отказано в оказании бесплатной юридической помощи
A10: 6 | B10: Количество случаев отказа в оказании гражданам бесплатной юридической помощи | D10: =C9 -> 0 | E10: показатели больше или равны строке 5
A11: 7 | B11: Виды бесплатной юридической помощи
A12: 8 | B12: Количество граждан, которым даны устные консультации по правовым вопросам | C12: 5
A13: 9 | B13: Количество устных консультаций по правовым вопросам | C13: 5 | D13: =C12 -> 5 | E13: показатели больше или равны строке 8
A14: 10 | B14: Количество граждан, которым даны письменные консультации по правовым вопросам
A15: 11 | B15: Количество письменных консультаций по правовым вопросам | D15: =C14 -> 0 | E15: показатели больше или равны строке 10
A16: 12 | B16: Количество граждан, которым составлены заявления, жалобы, ходатайства и другие документы правового характера
A17: 13 | B17: Количество составленных заявлений, жалоб, ходатайств и других документов правового характера | D17: =C16 -> 0 | E17: показатели больше или равны строке 12
A18: 14 | B18: Количество граждан, интересы которых представлялись в государственных и муниципальных органах, организациях
A19: 15 | B19: Количество случаев представления интересов граждан в государственных и муниципальных органах, организациях | D19: =C18 -> 0 | E19: показатели больше или равны строке 14

Sheet раздел 2
A1: Раздел 2. Сведения о количестве граждан, имеющих право на получение бесплатной юридической помощи
A3: № строки | B3: Содержание показателя | C3: Значение показателя
A4: 1 | B4: 2 | C4: 3
A5: 1. | B5: Общее количество граждан, обратившихся за получением бесплатной юридической помощи и имеющих право на ее получение | C5: 5 | E5: =C7+C8+C9 -> 5 | G5: сумма строк 3, 4 и 5 | H5: =EXACT(C5,'раздел 1'!C6) -> TRUE | I5: равно строке 3 раздела 1
A6: 2 | B6: Виды бесплатной юридической помощи
A7: 3 | B7: Общее количество граждан, обратившихся за получением юридической помощи в виде правового консультирования (в устной и письменной форме) и имеющих право на ее получение | C7: 5 | H7: =EXACT(C7,'раздел 1'!C12+'раздел 1'!C14) -> TRUE | I7: равно сумме строк 8 и 10 раздела 1
A8: 4 | B8: Общее количество граждан, обратившихся за получением юридической помощи в виде составления заявлений, жалоб, ходатайств и других документов правового характера и имеющих право на ее получение | H8: =EXACT(C8,'раздел 1'!C16) -> TRUE | I8: равно строке 12 раздела 1
A9: 5 | B9: Общее количество граждан, обратившихся за получением юридической помощи в виде представления их интересов в государственных и муниципальных органах, организациях и имеющих право на ее получение | H9: =EXACT(C9,'раздел 1'!C18) -> TRUE | I9: равно строке 14 раздела 1

Sheet раздел 3
A1: Раздел 3. Сведения о гражданах, которым оказана бесплатная юридическая помощь
A2: № п/п | B2: Категория граждан | C2: Количество устных консультаций по правовым вопросам | D2: Количество письменных консультаций по правовым вопросам | E2: Количество заявлений, жалоб, ходатайств и других документов правового характера | F2: Количество случаев представления интересов граждан в государствен-ных и муниципаль-ных органах, организациях | G2: Всего
A3: 1 | B3: 2 | C3: 3 | D3: 4 | E3: 5 | F3: 6 | G3: 7
A4: 1 | B4: Граждане, среднедушевой доход семей которых ниже величины прожиточного минимума, установленного в Свердловской области в соответствии с законодательством Российской Федерации, либо одиноко проживающие граждане, доходы которых ниже величины прожиточного минимума (малоимущие граждане)
A5: 2 | B5: Инвалиды I и II группы | C5: 5 | G5: 5
A6: 3 | B6: Ветераны Великой Отечественной войны, Герои Российской Федерации, Герои Советского Союза, Герои Социалистического Труда, Герои Труда Российской Федерации
A7: 4 | B7: Граждане, проходящие (проходившие) военную службу в Вооруженных Силах Российской Федерации, граждане, находящиеся (находившиеся) на военной службе (службе) в войсках национальной гвардии Российской Федерации, в воинских формированиях и органах, указанных в пункте 6 статьи 1 Федерального закона от 31 мая 1996 года № 61-ФЗ «Об обороне», при условии их участия в специальной военной операции на территориях Украины, Донецкой Народной Республики, Луганской Народной Республики, Запорожской области и Херсонской области и (или) выполнения ими задач по отражению вооруженного вторжения на территорию Российской Федерации, в ходе вооруженной провокации на Государственной границе Российской Федерации и приграничных территориях субъектов Российской Федерации, прилегающих к районам проведения специальной военной операции на территориях Украины, Донецкой Народной Республики, Луганской Народной Республики, Запорожской области и Херсонской области, находящиеся (находившиеся) на указанных территориях служащие (работники) правоохранительных органов Российской Федерации, граждане, выполняющие (выполнявшие) служебные и иные аналогичные функции на указанных территориях, а также члены семей указанных граждан
A8: 5 | B8: Граждане, призванные на военную службу по мобилизации в Вооруженные Силы Российской Федерации, граждане, заключившие контракт о добровольном содействии в выполнении задач, возложенных на Вооруженные Силы Российской Федерации, при условии их участия в специальной военной операции на территориях Украины, Донецкой Народной Республики, Луганской Народной Республики, Запорожской области и Херсонской области и (или) выполнения ими задач по отражению вооруженного вторжения на территорию Российской Федерации, в ходе вооруженной провокации на Государственной границе Российской Федерации и приграничных территориях субъектов Российской Федерации, прилегающих к районам проведения специальной военной операции на территориях Украины, Донецкой Народной Республики, Луганской Народной Республики, Запорожской области и Херсонской области, граждане, заключившие контракт (имевшие иные правоотношения) с организацией, содействующей выполнению задач, возложенных на Вооруженные Силы Российской Федерации, при условии их участия в специальной военной операции на указанных территориях, а также члены семей указанных граждан
A9: 6 | B9: Лица, принимавшие в соответствии с решениями органов государственной власти Донецкой Народной Республики, Луганской Народной Республики участие в боевых действиях в составе Вооруженных Сил Донецкой Народной Республики, Народной милиции Луганской Народной Республики, воинских формирований и органов Донецкой Народной Республики и Луганской Народной Республики начиная с 11 мая 2014 года, а также члены семей указанных лиц
A10: 7 | B10: Дети-инвалиды, дети-сироты, дети, оставшиеся без попечения родителей, лица из числа детей-сирот и детей, оставшихся без попечения родителей, а также их законные представители и представители, если они обращаются за оказанием бесплатной юридической помощи по вопросам, связанным с обеспечением и защитой прав и законных интересов таких детей
A11: 8 | B11: Лица, желающие принять на воспитание в свою семью ребенка, оставшегося без попечения родителей, если они обращаются за оказанием бесплатной юридической помощи по вопросам, связанным с устройством ребенка на воспитание в семью
A12: 9 | B12: Усыновители, если они обращаются за оказанием бесплатной юридической помощи по вопросам, связанным с обеспечением и защитой прав и законных интересов усыновленных детей
A13: 10 | B13: Граждане, имеющие право на бесплатную юридическую помощь в соответствии с Федеральным законом о социальном обслуживании граждан пожилого возраста и инвалидов
A14: 11 | B14: Несовершеннолетние, содержащиеся в учреждениях системы профилактики безнадзорности и правонарушений несовершеннолетних, и несовершеннолетние, отбывающие наказание в местах лишения свободы, а также их законные представители и представители, если они обращаются за оказанием бесплатной юридической помощи по вопросам, связанным с обеспечением и защитой прав и законных интересов таких несовершеннолетних (за исключением вопросов, связанных с оказанием юридической помощи в уголовном судопроизводстве)
A15: 12 | B15: Граждане, имеющие право на бесплатную юридическую помощь в соответствии с Законом Российской Федерации о психиатрической помощи и гарантиях прав граждан при ее оказании
A16: 13 | B16: Граждане, признанные судом недееспособными, а также их законные представителии, если они обращаются за оказанием бесплатной юридической помощи по вопросам, связанным с обеспечением и защитой прав и законных интересов таких граждан
A17: 14 | B17: Граждане, пострадавшие в результате чрезвычайной ситуации
A18: 15 | B18: Граждане, которым право на получение бесплатной юридической помощи в рамках государственной системы бесплатной юридической помощи предоставлено в соответствии с иными федеральными законами
C19: =SUM(C4:C18) -> 5 | D19: =SUM(D4:D18) -> 0 | E19: =SUM(E4:E18) -> 0 | F19: =SUM(F4:F18) -> 0 | G19: =SUM(G4:G18) -> 5 | I19: =EXACT(G19,C19+D19+E19+F19) -> TRUE
C22: =EXACT(C19,'раздел 1'!C13) -> TRUE | D22: =EXACT(D19,'раздел 1'!C15) -> FALSE | E22: =EXACT(E19,'раздел 1'!C17) -> FALSE | F22: =EXACT(F19,'раздел 1'!C19) -> FALSE | G22: =EXACT(G19,'раздел 1'!C8) -> TRUE
C25: равно строке 9 раздела 1 | D25: равно строке 11 раздела 1 | E25: равно строке 13 раздела 1 | F25: равно строке 15 раздела 1 | G25: равно строке 4 раздела 1

Sheet раздел 4
A1: Раздел 4. Сведения о правовом информировании и правовом просвещении населения согласно ст. 9 Закона от Свердловской области 05 октября 2012 года № 79-ОЗ
A3: Номер строки | B3: Осуществление правового информирования и правового просвещения | C3: Общее количество размещенных материалов | D3: Количество и виды размещенной информации | E3: Пример заполнения графы "Количество и виды размещенной информации"
A4: 1 | B4: В средствах массовой информации (Телевиденье, газеты, интернет-издания, в том числе новостные каналы, которые являются СМИ) | C4: 0 | D4: 0 | E4: 1 - статья, 1 - видеоролик
A5: 2 | B5: В социальных сетях (Одноклассники, Вконтакте, Дзен, You Tube, WhatApp) новость, статья, видеолекции и др.) | C5: 0 | D5: 0 | E5: 1-новость, 2 - статьи
A6: 3 | B6: В виде изданных брошюр, памяток и прочих (каждая из них РАЗНОЙ ТЕМЫ! Указывается их количество (темы, которые Вы сможете подтвердить) и количество распространения (шт.) | C6: 0 | D6: 0 | E6: Разработана 1 брошюра "Бесплатная юридическая помощь" - распространено 40 шт., разработана 1 памятка "Памятка для граждан по вопросам получения бесплатной юридической помощи" - распространено 50 шт.
E8: ВСЯ ИНФООРМАЦИЯ ДОЛЖНА БЫТЬ ПОДТВЕРЖДЕННОЙ…Возможны проверки, в том числе запросы конкретных памяток, брошюр и т.п., а также ссылки на Интернет-ресурсы должны быть проверены.
E9: Брошюра - это полиграфическая продукция, относящаяся к непериодическим печатным изданиям. Ее объем составляет от 4 до 48 страниц
E10: Памятка - инструкция, в которой даются вполне конкретные указания о необходимости конкретных действий, шагов
E11: Листовка - вид агитационно-политической или информационной литературы, лист бумаги с текстом и иногда с иллюстрациями
E12: Буклет - Печатное издание (программа, проспект, путеводитель и т. п.) на одном листе в виде ширмочки или тетрадки.

Sheet раздел 5
A1: Раздел 5. Сведения о количестве должностных лиц, осуществлявших в отчетный период оказание бесплатной юридической помощи
A2: № п/п | B2: Вид бесплатной юридической помощи | C2: Количество должностных лиц, осуществлявших оказание бесплатной юридической помощи
A3: 1 | B3: Правовое консультирование | C3: 1
A4: 2 | B4: Составление заявлений, жалоб, ходатайств и других документов правового характера
A5: 3 | B5: Представление интересов граждан в государственных и муниципальных органах, организациях
A6: 4 | B6: Всего должностных лиц, осуществлявших оказание бесплатной юридической помощи: | C6: 1 | F6: =C3+C4+C5 -> 1 | H6: равно либо меньше суммы строк 1, 2 и 3
A10: Дата составления отчета:
A11: Должностное лицо, ответственное за составление отчета _____________ Клевакина К.А.
A12: (подпись) (расшифровка подписи)
A13: Руководитель ________________ Пономарев В.Ю.
A14: (подпись) (расшифровка подписи)
